BEGIN:VCALENDAR
VERSION:2.0
PRODID:-//Alberto Agut - ECPv6.15.20//NONSGML v1.0//EN
CALSCALE:GREGORIAN
METHOD:PUBLISH
X-ORIGINAL-URL:https://albertoagut.es
X-WR-CALDESC:Events for Alberto Agut
REFRESH-INTERVAL;VALUE=DURATION:PT1H
X-Robots-Tag:noindex
X-PUBLISHED-TTL:PT1H
BEGIN:VTIMEZONE
TZID:Europe/Madrid
BEGIN:DAYLIGHT
TZOFFSETFROM:+0100
TZOFFSETTO:+0200
TZNAME:CEST
DTSTART:20180325T010000
END:DAYLIGHT
BEGIN:STANDARD
TZOFFSETFROM:+0200
TZOFFSETTO:+0100
TZNAME:CET
DTSTART:20181028T010000
END:STANDARD
BEGIN:DAYLIGHT
TZOFFSETFROM:+0100
TZOFFSETTO:+0200
TZNAME:CEST
DTSTART:20190331T010000
END:DAYLIGHT
BEGIN:STANDARD
TZOFFSETFROM:+0200
TZOFFSETTO:+0100
TZNAME:CET
DTSTART:20191027T010000
END:STANDARD
BEGIN:DAYLIGHT
TZOFFSETFROM:+0100
TZOFFSETTO:+0200
TZNAME:CEST
DTSTART:20200329T010000
END:DAYLIGHT
BEGIN:STANDARD
TZOFFSETFROM:+0200
TZOFFSETTO:+0100
TZNAME:CET
DTSTART:20201025T010000
END:STANDARD
END:VTIMEZONE
BEGIN:VEVENT
DTSTART;TZID=Europe/Madrid:20190624T080000
DTEND;TZID=Europe/Madrid:20190624T170000
DTSTAMP:20260424T042337
CREATED:20241205T170926Z
LAST-MODIFIED:20241205T170926Z
UID:2938-1561363200-1561395600@albertoagut.es
SUMMARY:Auditori de Castelló
DESCRIPTION:Recording session for an streaming concert \nBRAHMS \nTrio Op. 114 \nBRUCH \n8 Pieces for Viola\, Clarinet and Piano
URL:https://albertoagut.es/event/auditori-de-castello-10/
LOCATION:Castelló Music Festival\, Spain
END:VEVENT
END:VCALENDAR