BEGIN:VCALENDAR
VERSION:2.0
PRODID:-//Alberto Agut - ECPv6.15.20//NONSGML v1.0//EN
CALSCALE:GREGORIAN
METHOD:PUBLISH
X-ORIGINAL-URL:https://albertoagut.es
X-WR-CALDESC:Events for Alberto Agut
REFRESH-INTERVAL;VALUE=DURATION:PT1H
X-Robots-Tag:noindex
X-PUBLISHED-TTL:PT1H
BEGIN:VTIMEZONE
TZID:Europe/Madrid
BEGIN:DAYLIGHT
TZOFFSETFROM:+0100
TZOFFSETTO:+0200
TZNAME:CEST
DTSTART:20180325T010000
END:DAYLIGHT
BEGIN:STANDARD
TZOFFSETFROM:+0200
TZOFFSETTO:+0100
TZNAME:CET
DTSTART:20181028T010000
END:STANDARD
BEGIN:DAYLIGHT
TZOFFSETFROM:+0100
TZOFFSETTO:+0200
TZNAME:CEST
DTSTART:20190331T010000
END:DAYLIGHT
BEGIN:STANDARD
TZOFFSETFROM:+0200
TZOFFSETTO:+0100
TZNAME:CET
DTSTART:20191027T010000
END:STANDARD
BEGIN:DAYLIGHT
TZOFFSETFROM:+0100
TZOFFSETTO:+0200
TZNAME:CEST
DTSTART:20200329T010000
END:DAYLIGHT
BEGIN:STANDARD
TZOFFSETFROM:+0200
TZOFFSETTO:+0100
TZNAME:CET
DTSTART:20201025T010000
END:STANDARD
END:VTIMEZONE
BEGIN:VEVENT
DTSTART;TZID=Europe/Madrid:20190709T080000
DTEND;TZID=Europe/Madrid:20190709T170000
DTSTAMP:20260423T015633
CREATED:20241205T170733Z
LAST-MODIFIED:20241205T170733Z
UID:2933-1562659200-1562691600@albertoagut.es
SUMMARY:Benedict Music Tent
DESCRIPTION:This program was prepared under the guidance of Robert Spano. \nR. STRAUSS \n(1864–1949) \nTill Eulenspiegel’s Merry Pranks\, op. 28 (1894–95) \nSIBELIUS \n(1865–1957) \nViolin Concerto in D minor\, op. 47 (1903–04) \nBARTÓK \n(1881–1945) \nConcerto for Orchestra\, BB 123 (1943.1945)
URL:https://albertoagut.es/event/benedict-music-tent-9/
LOCATION:Aspen Music Festival\, Colorado\, USA
END:VEVENT
END:VCALENDAR